BEGIN:VCALENDAR
VERSION:2.0
PRODID:-//jEvents 2.0 for Joomla//EN
CALSCALE:GREGORIAN
METHOD:PUBLISH
BEGIN:VEVENT
UID:1320f0d04d7cda41dd54443a6e026db6
CATEGORIES:Seminars
CREATED:20150211T152250
SUMMARY:Laurence Ales - Carnegie Mellon Tepper School of Business
DESCRIPTION;ENCODING=QUOTED-PRINTABLE:<p><a class="wf_file" href="images/ales.pdf"><span class="wf_file_text">Tas
 ks, Talents, and Taxes</span></a></p>
DTSTAMP:20260421T165028Z
DTSTART:20141020T173000Z
DTEND:20141020T190000Z
SEQUENCE:0
TRANSP:OPAQUE
END:VEVENT
END:VCALENDAR