BEGIN:VCALENDAR
VERSION:2.0
PRODID:-//jEvents 2.0 for Joomla//EN
CALSCALE:GREGORIAN
METHOD:PUBLISH
BEGIN:VEVENT
UID:d668869e2dcae65d68fa3bc4ee0855b0
CATEGORIES:Seminars
CREATED:20150211T144318
SUMMARY:Lunch Seminar: Francesco Pappadà - Banque de France
DESCRIPTION;ENCODING=QUOTED-PRINTABLE:<p><a class="wf_file" href="images/pappada.pdf"><span class="wf_file_text">
 Austerity Plans and Tax Evasion : Theory and Evidence from Greece</span></a
 ></p><p> </p><p> </p>
DTSTAMP:20260421T164905Z
DTSTART:20141007T130000Z
DTEND:20141007T140000Z
SEQUENCE:0
TRANSP:OPAQUE
END:VEVENT
END:VCALENDAR