BEGIN:VCALENDAR
VERSION:2.0
PRODID:-//jEvents 2.0 for Joomla//EN
CALSCALE:GREGORIAN
METHOD:PUBLISH
BEGIN:VEVENT
UID:a0cb2f868e72f9df5bd5f82207881059
CATEGORIES:Seminars
CREATED:20161216T180734
SUMMARY:Lunch Seminar: Francesco Sangiorgi - Stockholm School of Economics
DESCRIPTION;ENCODING=QUOTED-PRINTABLE:<p><a class="wf_file" href="images/Sangiorgi.pdf"><span class="wf_file_text
 ">Searching for Information</span></a></p>
DTSTAMP:20260425T182220Z
DTSTART:20151111T130000Z
DTEND:20151111T140000Z
SEQUENCE:0
TRANSP:OPAQUE
END:VEVENT
END:VCALENDAR