BEGIN:VCALENDAR
VERSION:2.0
PRODID:-//jEvents 2.0 for Joomla//EN
CALSCALE:GREGORIAN
METHOD:PUBLISH
BEGIN:VEVENT
UID:13c599a286aff806e76b19dafba862e4
CATEGORIES:Seminars
CREATED:20170426T193334
SUMMARY:Lunch Seminar: Andreas M. Fisher - Swiss National Bank
DESCRIPTION;ENCODING=QUOTED-PRINTABLE:<p><a href="images/fisher.pdf" class="wf_file"><span class="wf_file_text">T
 he Speed of Exchange Rate Pass-Through</span></a></p>
DTSTAMP:20260422T113143Z
DTSTART:20170509T130000Z
DTEND:20170509T140000Z
SEQUENCE:0
TRANSP:OPAQUE
END:VEVENT
END:VCALENDAR