BEGIN:VCALENDAR
VERSION:2.0
PRODID:-//jEvents 2.0 for Joomla//EN
CALSCALE:GREGORIAN
METHOD:PUBLISH
BEGIN:VEVENT
UID:b70602239edc3ae8e5acc7b15f9bdf9c
CATEGORIES:Seminars
CREATED:20170426T193658
SUMMARY:David R. Baqaee - LSE
DESCRIPTION;ENCODING=QUOTED-PRINTABLE:\n\nThe Macroeconomic Impact of Microeconomic Shocks: Beyond Hulten’s Theor
 em\n
DTSTAMP:20260422T112946Z
DTSTART:20170515T173000Z
DTEND:20170515T190000Z
SEQUENCE:0
TRANSP:OPAQUE
END:VEVENT
END:VCALENDAR