BEGIN:VCALENDAR
VERSION:2.0
PRODID:-//jEvents 2.0 for Joomla//EN
CALSCALE:GREGORIAN
METHOD:PUBLISH
BEGIN:VEVENT
UID:369a8261784e98679e8617dfcc03be21
CATEGORIES:Seminars
CREATED:20170426T193836
SUMMARY:Lunch Seminar: Hubert Kempf - Paris School of Economics
DESCRIPTION;ENCODING=QUOTED-PRINTABLE:<p><a class="wf_file" href="images/kempf.pdf"><span class="wf_file_text">Pu
 blic Debt Sustainability and Defaults</span></a></p>
DTSTAMP:20260422T113309Z
DTSTART:20170516T130000Z
DTEND:20170516T140000Z
SEQUENCE:0
TRANSP:OPAQUE
END:VEVENT
END:VCALENDAR