BEGIN:VCALENDAR
VERSION:2.0
PRODID:-//jEvents 2.0 for Joomla//EN
CALSCALE:GREGORIAN
METHOD:PUBLISH
BEGIN:VEVENT
UID:43f6b8e92243202b14d43121e6dbe9d4
CATEGORIES:Seminars
CREATED:20180327T105232
SUMMARY:Lunch Seminar: Jason R. Donaldson - Washington University in St. Louis
DESCRIPTION;ENCODING=QUOTED-PRINTABLE:<p><a href="../files/2017/05/donaldson.pdf" title="Netting">Netting</a></p>
DTSTAMP:20260422T113156Z
DTSTART:20170510T130000Z
DTEND:20170510T140000Z
SEQUENCE:0
TRANSP:OPAQUE
END:VEVENT
END:VCALENDAR