BEGIN:VCALENDAR
VERSION:2.0
PRODID:-//jEvents 2.0 for Joomla//EN
CALSCALE:GREGORIAN
METHOD:PUBLISH
BEGIN:VEVENT
UID:ceddeacdca2a9fbcf016803a01904565
CATEGORIES:Seminars
CREATED:20190429T103946
SUMMARY:CANCELLED: Benjamin Moll - Princeton University
DESCRIPTION;ENCODING=QUOTED-PRINTABLE:<p><strong style="color: #555555; font-family: 'adelle sans'; font-size: 12
 px; background-color: #f7f7f7;"><span style="font-size: 12pt; line-height: 
 18.4px; font-family: Calibri, sans-serif; color: red;">The Seminar has been
  cancelled over concern about the COVID-19 virus outbreak</span></strong></
 p>
DTSTAMP:20260421T235907Z
DTSTART:20200427T163000Z
DTEND:20200427T180000Z
SEQUENCE:0
TRANSP:OPAQUE
END:VEVENT
END:VCALENDAR