BEGIN:VCALENDAR
VERSION:2.0
PRODID:-//jEvents 2.0 for Joomla//EN
CALSCALE:GREGORIAN
METHOD:PUBLISH
BEGIN:VEVENT
UID:cb5d5c6d8beb91984719552ee8f7f80f
CATEGORIES:Seminars
CREATED:20191213T163021
SUMMARY:CANCELLED: Nicola Limodio - Università Bocconi
DESCRIPTION;ENCODING=QUOTED-PRINTABLE:\n\nThe Seminar has been cancelled over concern about the COVID-19 virus ou
 tbreak\n
DTSTAMP:20260421T235725Z
DTSTART:20200401T130000Z
DTEND:20200402T143000Z
SEQUENCE:0
TRANSP:OPAQUE
END:VEVENT
END:VCALENDAR