BEGIN:VCALENDAR
VERSION:2.0
PRODID:-//jEvents 2.0 for Joomla//EN
CALSCALE:GREGORIAN
METHOD:PUBLISH
BEGIN:VEVENT
UID:2adeb4eb668eb005336ec52a25c07faa
CATEGORIES:Seminars
CREATED:20200423T143502
SUMMARY:WEBINAR: Paolo Giudici - University of Pavia with Centre for European Policy Studies, and Franco Peracchi -Georgetwon University
DESCRIPTION;ENCODING=QUOTED-PRINTABLE:\n\nPredicting and Monitoring COVID-19 contagion\nPresentations and video r
 egistration are available at:\nhttps://drive.google.com/drive/folders/1wvdR
 GAezocceaa_ugB6RhuCIqWfUqMVr?usp=sharing  \n\n\n \n
DTSTAMP:20260422T011634Z
DTSTART:20200422T170000Z
DTEND:20200423T190000Z
SEQUENCE:0
TRANSP:OPAQUE
END:VEVENT
END:VCALENDAR