BEGIN:VCALENDAR
VERSION:2.0
PRODID:-//jEvents 2.0 for Joomla//EN
CALSCALE:GREGORIAN
METHOD:PUBLISH
BEGIN:VEVENT
UID:3cf50a6d25b0f4cd51dd4c3b1531e4e8
CATEGORIES:Seminars
CREATED:20150211T151258
SUMMARY:Lunch Seminar: Galo Nuno - Bank of Spain
DESCRIPTION;ENCODING=QUOTED-PRINTABLE:<p><a class="wf_file" href="images/nuno.pdf"><span class="wf_file_text">Opt
 imal Control with Heterogeneous Agents in Continuous Time</span></a></p><p>
  </p><p> </p>
DTSTAMP:20260421T173603Z
DTSTART:20141015T130000Z
DTEND:20141015T140000Z
SEQUENCE:0
TRANSP:OPAQUE
END:VEVENT
END:VCALENDAR