BEGIN:VCALENDAR
VERSION:2.0
PRODID:-//jEvents 2.0 for Joomla//EN
CALSCALE:GREGORIAN
METHOD:PUBLISH
BEGIN:VEVENT
UID:6dfeabfeb4f79fe570a66fba7c198ca3
CATEGORIES:Seminars
CREATED:20150211T174907
SUMMARY:Paul Grieco - Pennsylvania State University
DESCRIPTION;ENCODING=QUOTED-PRINTABLE:<p><a class="wf_file" href="images/grieco.pdf"><span class="wf_file_text">P
 roductivity and Quality in Health Care: Evidence from the Dialysis Industry
 </span></a></p><p> </p><p> </p>
DTSTAMP:20260421T173454Z
DTSTART:20141030T173000Z
DTEND:20141030T190000Z
SEQUENCE:0
TRANSP:OPAQUE
END:VEVENT
END:VCALENDAR