BEGIN:VCALENDAR
VERSION:2.0
PRODID:-//jEvents 2.0 for Joomla//EN
CALSCALE:GREGORIAN
METHOD:PUBLISH
BEGIN:VEVENT
UID:358e8d666fd100840d4a581c7bfd7506
CATEGORIES:Seminars
CREATED:20150211T180012
SUMMARY:Rosa Ferrer - Universitat Pompeu Fabra
DESCRIPTION;ENCODING=QUOTED-PRINTABLE:<p><a class="wf_file" href="images/ferrer.pdf"><span class="wf_file_text">G
 ender Gaps in Performance: Evidence from Young Lawyers</span></a></p><p> </
 p><p> </p>
DTSTAMP:20260421T161003Z
DTSTART:20141106T173000Z
DTEND:20141106T190000Z
SEQUENCE:0
TRANSP:OPAQUE
END:VEVENT
END:VCALENDAR