BEGIN:VCALENDAR
VERSION:2.0
PRODID:-//jEvents 2.0 for Joomla//EN
CALSCALE:GREGORIAN
METHOD:PUBLISH
BEGIN:VEVENT
UID:e5d2065250fa43a4f517d316efbea2ae
CATEGORIES:Seminars
CREATED:20150211T180343
SUMMARY:Stepan Jurajda - Cerge-ei
DESCRIPTION;ENCODING=QUOTED-PRINTABLE:\n\nThe Quiet Revolution and the Family: Gender Composition of Tertiary Edu
 cation and Early Fertility Patterns\n\n\n \n\n\n \n
DTSTAMP:20260421T160709Z
DTSTART:20141113T173000Z
DTEND:20141113T190000Z
SEQUENCE:0
TRANSP:OPAQUE
END:VEVENT
END:VCALENDAR