BEGIN:VCALENDAR
VERSION:2.0
PRODID:-//jEvents 2.0 for Joomla//EN
CALSCALE:GREGORIAN
METHOD:PUBLISH
BEGIN:VEVENT
UID:ee709db7835b91bc8a5680b6f3a86790
CATEGORIES:Seminars
CREATED:20150211T181202
SUMMARY:Thibaut Lamadon - University of Chicago
DESCRIPTION;ENCODING=QUOTED-PRINTABLE:<p><a class="wf_file" href="images/lamadon.pdf"><span class="wf_file_text">
 Productivity Shocks, Dynamic Contracts and Income Uncertainty</span></a></p
 ><p> </p><p> </p>
DTSTAMP:20260421T161003Z
DTSTART:20141120T173000Z
DTEND:20141120T190000Z
SEQUENCE:0
TRANSP:OPAQUE
END:VEVENT
END:VCALENDAR