BEGIN:VCALENDAR
VERSION:2.0
PRODID:-//jEvents 2.0 for Joomla//EN
CALSCALE:GREGORIAN
METHOD:PUBLISH
BEGIN:VEVENT
UID:c9308675515ae64fe83b812827cc3b50
CATEGORIES:Seminars
CREATED:20170418T181253
SUMMARY:2nd Summer Workshop in Political Economy
DESCRIPTION;ENCODING=QUOTED-PRINTABLE:EIEF will host the “2nd Summer Workshop in Political Economy”. The aim is t
 o analyze topics related to the institutional underpinning of fiscal polici
 es. The workshop will focus on research at the intersection of political ec
 onomy, public finance, and macroeconomics. Topics of interest include: (i) 
 the political determination of public policies (fiscal and monetary policy,
  social insurance, taxation, transfer programs, public investment, public e
 mployment, regulation, education, and health); (ii) the effects of politica
 l reforms; (iv) the impact of budgeting rules; (v) political polarization a
 nd partisan conflict; (vi) economic policy uncertainty and its determinants
 .\n
DTSTAMP:20260423T003235Z
DTSTART:20160704T110000Z
DTEND:20160704T183000Z
SEQUENCE:0
TRANSP:OPAQUE
END:VEVENT
END:VCALENDAR