BEGIN:VCALENDAR
VERSION:2.0
PRODID:-//jEvents 2.0 for Joomla//EN
CALSCALE:GREGORIAN
METHOD:PUBLISH
BEGIN:VEVENT
UID:4f2ebf2adadae1912fcad9499d5efc31
CATEGORIES:Seminars
CREATED:20170426T172441
SUMMARY:Ariel Pakes - Harvard University
DESCRIPTION;ENCODING=QUOTED-PRINTABLE:<p><a class="wf_file" href="images/pakes.pdf"><span class="wf_file_text">Ju
 st Starting Out: Learning and Equilibrium in a New Market<a href="images/pa
 kes.pdf" class="wf_file"></a></span></a></p>
DTSTAMP:20260422T104550Z
DTSTART:20170313T173000Z
DTEND:20170313T190000Z
SEQUENCE:0
TRANSP:OPAQUE
END:VEVENT
END:VCALENDAR