BEGIN:VCALENDAR
VERSION:2.0
PRODID:-//jEvents 2.0 for Joomla//EN
CALSCALE:GREGORIAN
METHOD:PUBLISH
BEGIN:VEVENT
UID:d12f7bcef4e92029028d49f57fccb601
CATEGORIES:Seminars
CREATED:20170426T185912
SUMMARY:Avi Goldfarb - Rotman School of Management, University of Toronto
DESCRIPTION;ENCODING=QUOTED-PRINTABLE:<p><a class="wf_file" href="images/goldfarb.pdf"><span class="wf_file_text"
 >Exit, Tweets, and Loyalty</span></a></p>
DTSTAMP:20260422T105600Z
DTSTART:20170330T173000Z
DTEND:20170330T190000Z
SEQUENCE:0
TRANSP:OPAQUE
END:VEVENT
END:VCALENDAR