BEGIN:VCALENDAR
VERSION:2.0
PRODID:-//jEvents 2.0 for Joomla//EN
CALSCALE:GREGORIAN
METHOD:PUBLISH
BEGIN:VEVENT
UID:1a4b04951380bdf55b81d8394cbc71c3
CATEGORIES:Seminars
CREATED:20170426T190620
SUMMARY:Lunch Seminar: Jacob Oded - Tel Aviv University
DESCRIPTION;ENCODING=QUOTED-PRINTABLE:<p><a class="wf_file" href="images/oded.pdf"><span class="wf_file_text">Ins
 titutional Investors and Firm Performance: Evidence from IPOs</span></a><st
 rong> <br /></strong></p>
DTSTAMP:20260422T091417Z
DTSTART:20170405T130000Z
DTEND:20170405T140000Z
SEQUENCE:0
TRANSP:OPAQUE
END:VEVENT
END:VCALENDAR