BEGIN:VCALENDAR
VERSION:2.0
PRODID:-//jEvents 2.0 for Joomla//EN
CALSCALE:GREGORIAN
METHOD:PUBLISH
BEGIN:VEVENT
UID:b7f8a5bae8be0bafc0bdbc92398ec01c
CATEGORIES:Seminars
CREATED:20170426T195039
SUMMARY:Michela Giorcelli - UCLA
DESCRIPTION;ENCODING=QUOTED-PRINTABLE:<p><a class="wf_file" href="images/giorcelli.pdf"><span class="wf_file_text
 ">The Long-Term Effects of Management and Technology Transfers</span></a></
 p>
DTSTAMP:20260422T073313Z
DTSTART:20170525T173000Z
DTEND:20170525T190000Z
SEQUENCE:0
TRANSP:OPAQUE
END:VEVENT
END:VCALENDAR