BEGIN:VCALENDAR
VERSION:2.0
PRODID:-//jEvents 2.0 for Joomla//EN
CALSCALE:GREGORIAN
METHOD:PUBLISH
BEGIN:VEVENT
UID:132f27fffa9ba1b5e5d1bb07035f6bbc
CATEGORIES:Seminars
CREATED:20170426T195458
SUMMARY:Lunch Seminar: Anton Tsoy - EIEF
DESCRIPTION;ENCODING=QUOTED-PRINTABLE:<p style="text-align: justify;"><strong> Asymmetric Information and Securit
 y Design under Knightian Uncertainty </strong> (with with Andrey Malenko)</
 p><p style="text-align: justify;">Abstract:<br /> We study optimal security
  design by an informed issuer when the investor faces Knightian uncertainty
  about the distribution of cash flows from the project and demands robustne
 ss: she evaluates each security by the worst-case rationalizable model. In 
 equilibrium, the security offer affects the investor’s assessment of its va
 lue through both the structure of payoffs from the security and signaling o
 f the issuer’s private information. When uncertainty is sufficiently high, 
 standard equity arises as the unique equilibrium security. When uncertainty
  is sufficiently small, the equilibrium typically features risky debt. In t
 he intermediate case, both risky debt and standard equity arise in equilibr
 ium. When private information is about assets in place of the issuer rather
  than a new project, standard equity is no longer issued in equilibrium, ir
 respective of the level of uncertainty, and the equilibrium (usually) featu
 res risky debt.</p>
DTSTAMP:20260422T061245Z
DTSTART:20170614T010000Z
DTEND:20170614T140000Z
SEQUENCE:0
TRANSP:OPAQUE
END:VEVENT
END:VCALENDAR