BEGIN:VCALENDAR
VERSION:2.0
PRODID:-//jEvents 2.0 for Joomla//EN
CALSCALE:GREGORIAN
METHOD:PUBLISH
BEGIN:VEVENT
UID:0f7c65957ddfb605d17136c51fa227d4
CATEGORIES:Seminars
CREATED:20171102T191014
SUMMARY:Salome Baslandze - EIEF
DESCRIPTION;ENCODING=QUOTED-PRINTABLE:<p style="text-align: justify;"><strong>Connecting to Power: Political Conn
 ections, Innovation, and Firm Dynamics</strong> (with Ufuk Akcigit and Fran
 cesca Lotti)</p><p> </p><p style="text-align: justify;">Abstract:<br /> Do 
 political connections affect firm and industry dynamics? We study the Itali
 an firms and their workers to answer this question. Our analysis uses a bra
 nd-new data spanning the period from 1993 to 2014 where we merge: (i) firm-
 level balance sheet data, (ii) universe of social security data on workers,
  (iii) patent data from the European Patent Office, (iv) registry of local 
 politicians, and (v) detailed data on local elections in Italy. We find tha
 t firm-level political connections are widespread, especially among large f
 irms, and that the industries with more politically connected firms feature
  worse firm dynamics. Market leaders are much more likely to hire a politic
 ian and less likely to innovate, compared to their competitors. In addition
 , connections relate to higher survival and growth in employment and sales 
 but not in productivity. We build a firm dynamics model where we allow firm
 s to invest in innovation and/or rent-seeking to advance their productivity
  and to overcome regulatory or bureaucratic burden. The model highlights an
  interaction between static gains and dynamic losses from rent-seeking for 
 aggregate productivity.</p>
DTSTAMP:20260422T004049Z
DTSTART:20171002T170000Z
DTEND:20171002T183000Z
SEQUENCE:0
TRANSP:OPAQUE
END:VEVENT
END:VCALENDAR