BEGIN:VCALENDAR
VERSION:2.0
PRODID:-//jEvents 2.0 for Joomla//EN
CALSCALE:GREGORIAN
METHOD:PUBLISH
BEGIN:VEVENT
UID:0f48809c7c931a96ebc46f940661c7af
CATEGORIES:Seminars
CREATED:20240516T111842
SUMMARY:Nicola Limodio - Università Bocconi
DESCRIPTION;ENCODING=QUOTED-PRINTABLE:\n\nMobile Internet, Collateral and Banking\n\n\n&nbsp;\n
DTSTAMP:20260423T043426Z
DTSTART:20241003T163000Z
DTEND:20241003T180000Z
SEQUENCE:0
TRANSP:OPAQUE
END:VEVENT
END:VCALENDAR