BEGIN:VCALENDAR
VERSION:2.0
PRODID:-//jEvents 2.0 for Joomla//EN
CALSCALE:GREGORIAN
METHOD:PUBLISH
BEGIN:VEVENT
UID:2c9563971bfe8c83e602697a5762310e
CATEGORIES:Seminars
CREATED:20240516T112244
SUMMARY:Jeffrey Ely - Northwestern University
DESCRIPTION;ENCODING=QUOTED-PRINTABLE:<p><strong>Screening with Tests</strong></p><p><strong>Abstract</strong>:</
 p><p style="text-align: justify;">I study the monopolistic design of a coll
 ege admissions test. Students have private information about their ability 
 and apply to colleges by submitting verifiable resumes in addition to test 
 results. Due to screening frictions, the profit maximizing testing structur
 e is less informative than colleges would prefer and distorts admissions pr
 obabilities for students with poor resumes. Mandatory testing only makes th
 ings worse.</p>
DTSTAMP:20260423T043832Z
DTSTART:20241010T163000Z
DTEND:20241010T180000Z
SEQUENCE:0
TRANSP:OPAQUE
END:VEVENT
END:VCALENDAR