BEGIN:VCALENDAR
VERSION:2.0
PRODID:-//jEvents 2.0 for Joomla//EN
CALSCALE:GREGORIAN
METHOD:PUBLISH
BEGIN:VEVENT
UID:47b76ba0fb78f8011aa2d73c210dd5cf
CATEGORIES:Seminars
CREATED:20240611T063910
SUMMARY:Ana Moreno Maldonado - University of Mannheim
DESCRIPTION;ENCODING=QUOTED-PRINTABLE:\n\nDelayed Childbearing and Urban Revival: A Structural Approach\n
DTSTAMP:20260421T083740Z
DTSTART:20241209T163000Z
DTEND:20241209T180000Z
SEQUENCE:0
TRANSP:OPAQUE
END:VEVENT
END:VCALENDAR