BEGIN:VCALENDAR
VERSION:2.0
PRODID:-//jEvents 2.0 for Joomla//EN
CALSCALE:GREGORIAN
METHOD:PUBLISH
BEGIN:VEVENT
UID:a9c38fdda84f2522ae6bfa18491b77fd
CATEGORIES:Seminars
CREATED:20240723T071239
SUMMARY:Thomas Drechsel - University of Maryland
DESCRIPTION;ENCODING=QUOTED-PRINTABLE:<p><em><a href="images/Drechsel.pdf"><strong>Estimating the Effects of Poli
 tical Pressure on the Fed: A Narrative Approach with New Data</strong></a><
 /em></p>
DTSTAMP:20260421T102202Z
DTSTART:20241202T163000Z
DTEND:20241202T180000Z
SEQUENCE:0
TRANSP:OPAQUE
END:VEVENT
END:VCALENDAR