BEGIN:VCALENDAR
VERSION:2.0
PRODID:-//jEvents 2.0 for Joomla//EN
CALSCALE:GREGORIAN
METHOD:PUBLISH
BEGIN:VEVENT
UID:1a279c160c9184a9f8ceb90c8e4c0344
CATEGORIES:Seminars
CREATED:20240916T123432
SUMMARY: Rui Albuquerque - Boston College
DESCRIPTION;ENCODING=QUOTED-PRINTABLE:<p><a href="images/Albuquerque.pdf">Private Credit: Risks and Benefits of a
  Maturity Wall</a></p>
DTSTAMP:20260421T084046Z
DTSTART:20250529T163000Z
DTEND:20250529T180000Z
SEQUENCE:0
TRANSP:OPAQUE
END:VEVENT
END:VCALENDAR