BEGIN:VCALENDAR
VERSION:2.0
PRODID:-//jEvents 2.0 for Joomla//EN
CALSCALE:GREGORIAN
METHOD:PUBLISH
BEGIN:VEVENT
UID:1b3826e1d37ad30a882076a4d93131ee
CATEGORIES:Seminars
CREATED:20250211T092414
SUMMARY:Lunch Seminar:  Nico Voigtlaender - UCLA
DESCRIPTION;ENCODING=QUOTED-PRINTABLE:<p><a href="images/nico.pdf"><em><strong>Organizing a Kingdom</strong></em>
 </a></p>
DTSTAMP:20260419T135438Z
DTSTART:20250520T130000Z
DTEND:20250520T140000Z
SEQUENCE:0
TRANSP:OPAQUE
END:VEVENT
END:VCALENDAR