BEGIN:VCALENDAR
VERSION:2.0
PRODID:-//jEvents 2.0 for Joomla//EN
CALSCALE:GREGORIAN
METHOD:PUBLISH
BEGIN:VEVENT
UID:97825b8d9a9a1a8b5a0e629457b79742
CATEGORIES:Seminars
CREATED:20250226T161510
SUMMARY:Leander Heldring - Northwestern University- Kellogg
DESCRIPTION;ENCODING=QUOTED-PRINTABLE:<p>The success of the relational state in England</p>
DTSTAMP:20260421T084047Z
DTSTART:20250521T163000Z
DTEND:20250521T180000Z
SEQUENCE:0
TRANSP:OPAQUE
END:VEVENT
END:VCALENDAR