BEGIN:VCALENDAR
VERSION:2.0
PRODID:-//jEvents 2.0 for Joomla//EN
CALSCALE:GREGORIAN
METHOD:PUBLISH
BEGIN:VEVENT
UID:ec30c7f5de7c6e988f5e2ad25d6da328
CATEGORIES:Seminars
CREATED:20250529T092054
SUMMARY:Mirko Draca  - University of Warwick
DESCRIPTION;ENCODING=QUOTED-PRINTABLE:<p>TBA</p>
DTSTAMP:20260421T090426Z
DTSTART:20250529T163000Z
DTEND:20250529T180000Z
SEQUENCE:0
TRANSP:OPAQUE
END:VEVENT
END:VCALENDAR