BEGIN:VCALENDAR
VERSION:2.0
PRODID:-//jEvents 2.0 for Joomla//EN
CALSCALE:GREGORIAN
METHOD:PUBLISH
BEGIN:VEVENT
UID:5123cccf05222036b6114db2b8768c08
CATEGORIES:Seminars
CREATED:20260204T140209
SUMMARY:Joshua Weiss - University of Bristol
DESCRIPTION;ENCODING=QUOTED-PRINTABLE:\n\nTBA\n
DTSTAMP:20260423T050652Z
DTSTART:20260511T163000Z
DTEND:20260511T180000Z
SEQUENCE:0
TRANSP:OPAQUE
END:VEVENT
END:VCALENDAR