BEGIN:VCALENDAR
VERSION:2.0
PRODID:-//jEvents 2.0 for Joomla//EN
CALSCALE:GREGORIAN
METHOD:PUBLISH
BEGIN:VEVENT
UID:c962c2fd0c21c6138d8c5419b8fc27bd
CATEGORIES:Seminars
CREATED:20170424T183437
SUMMARY:Job Market Seminar: Mehmet Ihsan Canayaz - University of Oxford
DESCRIPTION;ENCODING=QUOTED-PRINTABLE:<p><a class="wf_file" href="images/02-jmp_canayaz.pdf"><span class="wf_file
 _text">The impact of senior political representation on government contract
 ing, firm-level investments and stock returns</span></a></p>
DTSTAMP:20260422T090217Z
DTSTART:20170213T110000Z
DTEND:20170213T123000Z
SEQUENCE:0
TRANSP:OPAQUE
END:VEVENT
END:VCALENDAR