BEGIN:VCALENDAR
VERSION:2.0
PRODID:-//jEvents 2.0 for Joomla//EN
CALSCALE:GREGORIAN
METHOD:PUBLISH
BEGIN:VEVENT
UID:6b2d63ea264e1cd60dcf09a16e382c12
CATEGORIES:Seminars
CREATED:20170426T185401
SUMMARY:Lunch Seminar: Stephen P. Zeldes - Columbia University
DESCRIPTION;ENCODING=QUOTED-PRINTABLE:<p><a class="wf_file" href="images/zeldes.pdf"><span class="wf_file_text">S
 hould the Government Be Paying Investment Fees on $3 Trillion of Tax-Deferr
 ed Retirement Assets?</span></a></p>
DTSTAMP:20260422T070819Z
DTSTART:20170322T130000Z
DTEND:20170322T140000Z
SEQUENCE:0
TRANSP:OPAQUE
END:VEVENT
END:VCALENDAR