BEGIN:VCALENDAR
VERSION:2.0
PRODID:-//jEvents 2.0 for Joomla//EN
CALSCALE:GREGORIAN
METHOD:PUBLISH
BEGIN:VEVENT
UID:aa7aa7a65125a3b76eb5f9c2e8b5b69b
CATEGORIES:Seminars
CREATED:20170426T192405
SUMMARY:Alexander Popov - European Central Bank
DESCRIPTION;ENCODING=QUOTED-PRINTABLE:<p><a class="wf_file" href="images/popov.pdf"><span class="wf_file_text">Cr
 edit Market Competition and the Gender Gap: Evidence from Local Labor Marke
 ts</span></a></p>
DTSTAMP:20260422T054505Z
DTSTART:20170428T173000Z
DTEND:20170428T190000Z
SEQUENCE:0
TRANSP:OPAQUE
END:VEVENT
END:VCALENDAR