BEGIN:VCALENDAR
VERSION:2.0
PRODID:-//jEvents 2.0 for Joomla//EN
CALSCALE:GREGORIAN
METHOD:PUBLISH
BEGIN:VEVENT
UID:f1676fcd286cee230c1e18d9faf5ce92
CATEGORIES:Seminars
CREATED:20170426T195303
SUMMARY:Yuri Tserlukevich - Arizona State University
DESCRIPTION;ENCODING=QUOTED-PRINTABLE:<p><a class="wf_file" href="images/tserlukevich.pdf"><span class="wf_file_t
 ext">Embracing Risk: Hedging Policy for Firms with Real Options</span></a><
 /p>
DTSTAMP:20260422T023551Z
DTSTART:20170601T173000Z
DTEND:20170601T190000Z
SEQUENCE:0
TRANSP:OPAQUE
END:VEVENT
END:VCALENDAR