BEGIN:VCALENDAR
VERSION:2.0
PRODID:-//jEvents 2.0 for Joomla//EN
CALSCALE:GREGORIAN
METHOD:PUBLISH
BEGIN:VEVENT
UID:d3b293021484f7a160ee5e89dc6f891f
CATEGORIES:Seminars
CREATED:20170426T195425
SUMMARY:Macro Lunch Seminar: Guido Lorenzoni - Northwestern University
DESCRIPTION;ENCODING=QUOTED-PRINTABLE:<p><a class="wf_file" href="images/lorenzoni.pdf"><span class="wf_file_text
 ">Financial Crises and Lending of Last Resort in Open Economies</span></a><
 /p>
DTSTAMP:20260422T023544Z
DTSTART:20170613T130000Z
DTEND:20170613T140000Z
SEQUENCE:0
TRANSP:OPAQUE
END:VEVENT
END:VCALENDAR