BEGIN:VCALENDAR
VERSION:2.0
PRODID:-//jEvents 2.0 for Joomla//EN
CALSCALE:GREGORIAN
METHOD:PUBLISH
BEGIN:VEVENT
UID:69442ab6413353f249e7556faca5faba
CATEGORIES:Seminars
CREATED:20171102T182831
SUMMARY:Lunch Seminar: Carolin E. Pflueger - Sauder School of Business UBC
DESCRIPTION;ENCODING=QUOTED-PRINTABLE:\n\nSovereign Debt Portfolios, Bond Risks, and the Credibility of Monetary 
 Policy\n
DTSTAMP:20260422T023427Z
DTSTART:20170615T130000Z
DTEND:20170615T140000Z
SEQUENCE:0
TRANSP:OPAQUE
END:VEVENT
END:VCALENDAR