BEGIN:VCALENDAR
VERSION:2.0
PRODID:-//jEvents 2.0 for Joomla//EN
CALSCALE:GREGORIAN
METHOD:PUBLISH
BEGIN:VEVENT
UID:78f4ccbb9ea9580afc9ef1ba1f5140bb
CATEGORIES:Seminars
CREATED:20171102T183038
SUMMARY:Macro Lunch Seminar: Veronica Guerrieri - Chicago Booth School of Business
DESCRIPTION;ENCODING=QUOTED-PRINTABLE:<p><a class="wf_file" href="images/guerrieri.pdf"><span class="wf_file_text
 ">Markets with Multidimensional Private Information</span></a></p>
DTSTAMP:20260422T023551Z
DTSTART:20170619T130000Z
DTEND:20170619T140000Z
SEQUENCE:0
TRANSP:OPAQUE
END:VEVENT
END:VCALENDAR