BEGIN:VCALENDAR
VERSION:2.0
PRODID:-//jEvents 2.0 for Joomla//EN
CALSCALE:GREGORIAN
METHOD:PUBLISH
BEGIN:VEVENT
UID:9e487be4b5ed131bfc7ad0bf8cf7e5bc
CATEGORIES:Seminars
CREATED:20171102T183438
SUMMARY:Macro Lunch Seminar: Pierre Yared - Columbia Business School
DESCRIPTION;ENCODING=QUOTED-PRINTABLE:<p><a class="wf_file" href="images/yared.pdf"><span class="wf_file_text">Co
 mmitment vs. Flexibility with Costly Verification</span></a></p>
DTSTAMP:20260422T023545Z
DTSTART:20170621T130000Z
DTEND:20170621T140000Z
SEQUENCE:0
TRANSP:OPAQUE
END:VEVENT
END:VCALENDAR