BEGIN:VCALENDAR
VERSION:2.0
PRODID:-//jEvents 2.0 for Joomla//EN
CALSCALE:GREGORIAN
METHOD:PUBLISH
BEGIN:VEVENT
UID:c61416681c95a98eb8a97866691b5477
CATEGORIES:Seminars
CREATED:20171102T183541
SUMMARY:Macro Lunch Seminar: Jean Flemming - University of Oxford
DESCRIPTION;ENCODING=QUOTED-PRINTABLE:<p style="text-align: justify;"><strong> Costly Commuting and the Job Ladde
 r</strong></p><p style="text-align: justify;">Abstract:<br /> The interacti
 on between commuting, mobility, and employment are studied in a model of se
 arch on the job. When commuting is costly, the ability to move improves wor
 kers’ utility. The more difficult it is to move, the more weight unemployed
  workers put on commuting, leading them to reject more job offers. When fir
 ms differ in productivity, high commuting costs can cause even the most pro
 ductive job offers to be rejected in equilibrium. For a given wage, employe
 d workers with shorter commutes accept fewer jobs through on-the-job search
 , slowing their progress up the job ladder. A fall in the probability to mo
 ve or rise in commuting costs will increase unemployment and decrease the s
 peed at which workers climb the job ladder, leading to large earnings losse
 s through slower wage growth and an endogenous fall in output. I document t
 he link between commutes, job-to-job transitions, and earnings empirically.
  I build a theoretical model to study how policies that increase mobility o
 r subsidize commuting costs affect future wage growth.</p>
DTSTAMP:20260422T023544Z
DTSTART:20170628T130000Z
DTEND:20170628T140000Z
SEQUENCE:0
TRANSP:OPAQUE
END:VEVENT
END:VCALENDAR