BEGIN:VCALENDAR
VERSION:2.0
PRODID:-//jEvents 2.0 for Joomla//EN
CALSCALE:GREGORIAN
METHOD:PUBLISH
BEGIN:VEVENT
UID:db61ae978dbf824ec5266ebede888d5b
CATEGORIES:Seminars
CREATED:20171102T184518
SUMMARY:Lunch Seminar: Giorgia Piacentino - Washington University in St. Louis
DESCRIPTION;ENCODING=QUOTED-PRINTABLE:<p><a class="wf_file" href="images/piacentino.pdf"><span class="wf_file_tex
 t">Money Runs</span></a></p>
DTSTAMP:20260422T052337Z
DTSTART:20170524T130000Z
DTEND:20170524T140000Z
SEQUENCE:0
TRANSP:OPAQUE
END:VEVENT
END:VCALENDAR