BEGIN:VCALENDAR
VERSION:2.0
PRODID:-//jEvents 2.0 for Joomla//EN
CALSCALE:GREGORIAN
METHOD:PUBLISH
BEGIN:VEVENT
UID:e68c40408cc8c30092ddf2d1dfca13a7
CATEGORIES:Seminars
CREATED:20180327T113302
SUMMARY:Macro Lunch Seminar: Maryam Farboodi - Princeton University
DESCRIPTION;ENCODING=QUOTED-PRINTABLE:<p style="margin-top: 2pt; margin-right: 20.7pt; margin-bottom: 0.0001pt; t
 ext-align: justify;"><strong><span style="font-size: 11pt; font-family: 'Ca
 libri','sans-serif';">On the Origins of Core and Periphery Countries</span>
 </strong><span style="font-size: 11pt; font-family: 'Calibri','sans-serif';
 "> (with Peter Kondor)</span></p><p><span style="font-size: 12pt; font-fami
 ly: 'Times New Roman','serif';"></span></p>
DTSTAMP:20260422T023636Z
DTSTART:20170607T130000Z
DTEND:20170607T140000Z
SEQUENCE:0
TRANSP:OPAQUE
END:VEVENT
END:VCALENDAR